BEGIN:VCALENDAR
PRODID:-//eluceo/ical//2.0/EN
VERSION:2.0
CALSCALE:GREGORIAN
BEGIN:VEVENT
UID:event-994
DTSTAMP:20260423T135604Z
SUMMARY:Speciaalbier Avond
DESCRIPTION:Join us for a fun evening at the Speciaalbieravond in Breda\, w
 here you can enjoy 4 unique craft beers for just €16! Before we head to 
 the city\, we’ll kick things off with some pizza in Spoorpark\, followed
  by a few rounds of the classic flunkyball. You’re also welcome to join 
 us just for the beer tasting event in Breda! Note: Travel costs and beer i
 n Breda are at your own expense. Registration All econometrics students wh
 o are interested can register!  Participation fee: Maximum of €7 This e
 vent is organized by the Promo committee. Do you also want to join a commi
 ttee? Become active by sending a mail to Vice-Chairman@Asset-Econometrics.
 nl
DTSTART:20250707T150000Z
DTEND:20250707T215959Z
END:VEVENT
BEGIN:VTIMEZONE
TZID:UTC
BEGIN:STANDARD
DTSTART:20250707T150000
TZNAME:UTC
TZOFFSETTO:+0000
TZOFFSETFROM:+0000
END:STANDARD
END:VTIMEZONE
END:VCALENDAR
