BEGIN:VCALENDAR
PRODID:-//eluceo/ical//2.0/EN
VERSION:2.0
CALSCALE:GREGORIAN
BEGIN:VEVENT
UID:event-98
DTSTAMP:20260423T104034Z
SUMMARY:Personal CV Check
DESCRIPTION:On September 4\,5\,12 and 15 you will have the opportunity to g
 et your CV checked by a career advisor from the University via Zoom.  It 
 is the ideal chance to boost your CV and increase your chance to join our 
 formal events with a CV selection like the EOR Business Dinner.
DTSTART:20230903T220000Z
DTEND:20230912T104521Z
LOCATION:Zoom
END:VEVENT
BEGIN:VTIMEZONE
TZID:UTC
BEGIN:STANDARD
DTSTART:20230903T220000
TZNAME:UTC
TZOFFSETTO:+0000
TZOFFSETFROM:+0000
END:STANDARD
END:VTIMEZONE
END:VCALENDAR
