BEGIN:VCALENDAR
PRODID:-//eluceo/ical//2.0/EN
VERSION:2.0
CALSCALE:GREGORIAN
BEGIN:VEVENT
UID:event-975
DTSTAMP:20260423T135512Z
SUMMARY:Hangover Lunch
DESCRIPTION:Recover from the board announcement with a nice\, free\, and co
 zy lunch. Did you drink a little too much during the board announcement\, 
 or are you just looking for a cozy lunch? Join our hangover lunch and goss
 ip about the new boardies. Registration All econometrics students who are 
 interested can register!
DTSTART:20250620T110000Z
DTEND:20250620T130000Z
END:VEVENT
BEGIN:VTIMEZONE
TZID:UTC
BEGIN:STANDARD
DTSTART:20250620T110000
TZNAME:UTC
TZOFFSETTO:+0000
TZOFFSETFROM:+0000
END:STANDARD
END:VTIMEZONE
END:VCALENDAR
