BEGIN:VCALENDAR
PRODID:-//eluceo/ical//2.0/EN
VERSION:2.0
CALSCALE:GREGORIAN
BEGIN:VEVENT
UID:event-972
DTSTAMP:20260423T135805Z
SUMMARY:Summer Activity
DESCRIPTION:Join us for the perfect way to start the summer\, during the Su
 mmer Activity on the water! Join us on a boat ride through Tilburg\, with 
 snacks\, unlimited drinks! Before we get on the boat\, we’ll kick off th
 e day together in Leijpark with a delicious meal to make sure everyone boa
 rds the boat with a full stomach. Besides that\, a unique tournament will 
 be hosted\, inspired by our southern neighbours. Something you definitely 
 don’t want to miss out on! After our time on the boat\, we’ll return t
 o Leijpark to hang out and relax for a bit\, and then we’ll head into th
 e city for a(n un)forgettable night out! Registration Please note that you
  need to be a member of Asset in order to register for this event. Are you
  not a member of Asset yet? Read more about all the benefits of becoming a
  member here. Participation fee: Maximum of €15 Registration deadline: 
 Friday\, June 27\, 17:00   This event is organized by the Active Members 
 Day committee. Do you also want to join a committee? Become active by send
 ing an email to Vice-Chairman@Asset-Econometrics.nl
DTSTART:20250627T150000Z
DTEND:20250627T215959Z
END:VEVENT
BEGIN:VTIMEZONE
TZID:UTC
BEGIN:STANDARD
DTSTART:20250627T150000
TZNAME:UTC
TZOFFSETTO:+0000
TZOFFSETFROM:+0000
END:STANDARD
END:VTIMEZONE
END:VCALENDAR
