BEGIN:VCALENDAR
PRODID:-//eluceo/ical//2.0/EN
VERSION:2.0
CALSCALE:GREGORIAN
BEGIN:VEVENT
UID:event-945
DTSTAMP:20260423T135646Z
SUMMARY:Board Announcement Drink
DESCRIPTION:As the academic year is coming to an end\, it is time to announ
 ce our board of 2025-2026! Find out who will become the successors of Emm
 a\, Rebecca\, Guus\, Dylan\, and Amy during the amazing announcement vide
 o. The doors will open at 21:00 and the video will start at 21:30. The fir
 st drinks are on us!
DTSTART:20250619T190000Z
DTEND:20250619T215959Z
END:VEVENT
BEGIN:VTIMEZONE
TZID:UTC
BEGIN:STANDARD
DTSTART:20250619T190000
TZNAME:UTC
TZOFFSETTO:+0000
TZOFFSETFROM:+0000
END:STANDARD
END:VTIMEZONE
END:VCALENDAR
