BEGIN:VCALENDAR
PRODID:-//eluceo/ical//2.0/EN
VERSION:2.0
CALSCALE:GREGORIAN
BEGIN:VEVENT
UID:event-931
DTSTAMP:20260423T135727Z
SUMMARY:Monthly Afternoon
DESCRIPTION:The Promo committee will provide all the ingredients you need t
 o build your perfect pokébowl. While you eat\, enjoy some fun board games
  or just hang out with friends—hopefully under the evening sun. The even
 t kicks off at 19:00\, right after the Lecture of the Year Awards. Cost: m
 ax €3. We hope to see you there! Registration All econometrics students 
 who are interested can register! Please note that you need to be a member 
 of Asset to register for this event. Are you not a member of Asset yet? Re
 ad more about all the benefits of becoming a member here.     This event
  is organized by the Promo committee. Do you also want to join a committe
 e? Become active by sending an email to Vice-Chairman@Asset-Econometrics.
 nl
DTSTART:20250520T170000Z
DTEND:20250520T190000Z
END:VEVENT
BEGIN:VTIMEZONE
TZID:UTC
BEGIN:STANDARD
DTSTART:20250520T170000
TZNAME:UTC
TZOFFSETTO:+0000
TZOFFSETFROM:+0000
END:STANDARD
END:VTIMEZONE
END:VCALENDAR
