BEGIN:VCALENDAR
PRODID:-//eluceo/ical//2.0/EN
VERSION:2.0
CALSCALE:GREGORIAN
BEGIN:VEVENT
UID:event-928
DTSTAMP:20260423T135645Z
SUMMARY:Padel Tournament
DESCRIPTION:Join the Padel tournament to smash out some stress before the e
 xams will start. The tournament will only be from 14:00 - 17:00\, and is a
  9-minute bicycle ride from the Library away \;) Participation fee: €5 
   Registration Registration deadline: May 20 All econometrics students w
 ho are interested can register!       This event is organized by the Sp
 orts committee. Do you also want to join a committee? Become active by sen
 ding an email to Vice-Chairman@Asset-Econometrics.nl
DTSTART:20250522T120000Z
DTEND:20250522T150000Z
END:VEVENT
BEGIN:VTIMEZONE
TZID:UTC
BEGIN:STANDARD
DTSTART:20250522T120000
TZNAME:UTC
TZOFFSETTO:+0000
TZOFFSETFROM:+0000
END:STANDARD
END:VTIMEZONE
END:VCALENDAR
