BEGIN:VCALENDAR
PRODID:-//eluceo/ical//2.0/EN
VERSION:2.0
CALSCALE:GREGORIAN
BEGIN:VEVENT
UID:event-920
DTSTAMP:20260423T135513Z
SUMMARY:Lecturer of the Year Awards
DESCRIPTION:Let’s take the time to appreciate all that our lovely lecture
 rs do for us. From the in-depth explanations given during lectures and tut
 orials\, to the funny jokes they tell. During the lecturer of the year awa
 rds\, we will give away some prizes\, and afterwards have some drinks to p
 roperly socialize with our amazing lecturers. Registration Please note tha
 t you need to be a member of Asset in order to register for this event. Ar
 e you not a member of Asset yet? Read more about all the benefits of becom
 ing a member here.   This event is organized by the Education committee. 
 Do you also want to join a committee? Become active by sending an email to
  Vice-Chairman@Asset-Econometrics.nl
DTSTART:20250520T150000Z
DTEND:20250520T170000Z
END:VEVENT
BEGIN:VTIMEZONE
TZID:UTC
BEGIN:STANDARD
DTSTART:20250520T150000
TZNAME:UTC
TZOFFSETTO:+0000
TZOFFSETFROM:+0000
END:STANDARD
END:VTIMEZONE
END:VCALENDAR
