BEGIN:VCALENDAR
PRODID:-//eluceo/ical//2.0/EN
VERSION:2.0
CALSCALE:GREGORIAN
BEGIN:VEVENT
UID:event-916
DTSTAMP:20260423T135646Z
SUMMARY:Astrics Beer Cantus
DESCRIPTION:Join us for the legendary Astrics Beer Cantus for an unforgetta
 ble night of singing and drinks with your fellow econometricians! Particip
 ation fee: €12\,50 Registration Please note that you need to be a member
  of Asset in order to register for this event. Are you not a member of Ass
 et yet? Read more about all the benefits of becoming a member here.     
 This event is organized by the Drinks &amp\; Activities committee. Do you 
 also want to join a committee? Become active by sending an email to Vice-C
 hairman@Asset-Econometrics.nl
DTSTART:20250514T180000Z
DTEND:20250514T210000Z
END:VEVENT
BEGIN:VTIMEZONE
TZID:UTC
BEGIN:STANDARD
DTSTART:20250514T180000
TZNAME:UTC
TZOFFSETTO:+0000
TZOFFSETFROM:+0000
END:STANDARD
END:VTIMEZONE
END:VCALENDAR
