BEGIN:VCALENDAR
PRODID:-//eluceo/ical//2.0/EN
VERSION:2.0
CALSCALE:GREGORIAN
BEGIN:VEVENT
UID:event-902
DTSTAMP:20260423T135603Z
SUMMARY:EfS: Walking at the Wever
DESCRIPTION:On Thursday at 13:00\, we will take a pleasant walk with the el
 derly from De Wever (No\, Bob does not live there yet). Together\, we will
  enjoy the fresh air\, a relaxed pace\, and good conversations as we strol
 l through the surroundings. After the walk\, we will end the afternoon in 
 Spoorpark\, where we will enjoy a delicious pizza together. Note: By joini
 ng this activity\, you get priority on TUC 2025 tickets! Participation fee
 : €2 Registration Please note that you need to be a member of Asset in o
 rder to register for this event. Are you not a member of Asset yet? Read m
 ore about all the benefits of becoming a member here.     This event is 
 organized by the EfS committee. Do you also want to join a committee? Beco
 me active by sending an email to Vice-Chairman@Asset-Econometrics.nl
DTSTART:20250515T110000Z
DTEND:20250515T150000Z
END:VEVENT
BEGIN:VTIMEZONE
TZID:UTC
BEGIN:STANDARD
DTSTART:20250515T110000
TZNAME:UTC
TZOFFSETTO:+0000
TZOFFSETFROM:+0000
END:STANDARD
END:VTIMEZONE
END:VCALENDAR
