BEGIN:VCALENDAR
PRODID:-//eluceo/ical//2.0/EN
VERSION:2.0
CALSCALE:GREGORIAN
BEGIN:VEVENT
UID:event-899
DTSTAMP:20260423T135605Z
SUMMARY:Beer Games Drink
DESCRIPTION:Ready to channel your inner beer champion? Join your fellow bee
 r lovers in a contest of drinking\, chugging\, and competition to become t
 he last Adtleet of the year!  Registration Please note that you need to b
 e a member of Asset in order to register for this event. Are you not a mem
 ber of Asset yet? Read more about all the benefits of becoming a member he
 re.   This event is organized by the Drinks &amp\; Activities committee. 
 Do you also want to join a committee? Become active by sending an email to
  Vice-Chairman@Asset-Econometrics.nl
DTSTART:20250424T190000Z
DTEND:20250424T215959Z
END:VEVENT
BEGIN:VTIMEZONE
TZID:UTC
BEGIN:STANDARD
DTSTART:20250424T190000
TZNAME:UTC
TZOFFSETTO:+0000
TZOFFSETFROM:+0000
END:STANDARD
END:VTIMEZONE
END:VCALENDAR
