BEGIN:VCALENDAR
PRODID:-//eluceo/ical//2.0/EN
VERSION:2.0
CALSCALE:GREGORIAN
BEGIN:VEVENT
UID:event-874
DTSTAMP:20260423T135728Z
SUMMARY:International Business Tour 2025
DESCRIPTION:The International Business Tour 2025 will take place from Octob
 er 28 to November 12. During this trip\, we will visit San Francisco\, Los
  Angeles\, and Las Vegas\, where we will visit several companies and unive
 rsities. Furthermore\, we have many activities planned for you! The partic
 ipation fee will be at most €1375 and includes a flight ticket\, hostels
 \, activities\, and 2 times dinner. You can join the IBT information sess
 ion(s) for more information. The slides from the info session are availab
 le here. If you have any questions\, you can contact someone from the comm
 ittee or the board. Registration All Econometrics students who are interes
 ted can register for IBT 2025. Note: A priority system applies based on yo
 ur study phase and previous participation in the IBT     This event is o
 rganized by the IBT 2025 committee. Do you also want to join a committee?
  Become active by sending an email to Vice-Chairman@Asset-Econometrics.nl
DTSTART:20251027T230000Z
DTEND:20251111T230000Z
END:VEVENT
BEGIN:VTIMEZONE
TZID:UTC
BEGIN:STANDARD
DTSTART:20251027T230000
TZNAME:UTC
TZOFFSETTO:+0000
TZOFFSETFROM:+0000
END:STANDARD
END:VTIMEZONE
END:VCALENDAR
