BEGIN:VCALENDAR
PRODID:-//eluceo/ical//2.0/EN
VERSION:2.0
CALSCALE:GREGORIAN
BEGIN:VEVENT
UID:event-870
DTSTAMP:20260423T135557Z
SUMMARY:Active Members Weekend
DESCRIPTION:Save the dates and draw a big cross in your agenda for May 2-4\
 , because our Active Members Weekend will take place\, make sure to be the
 re!  Registrations open on March 19\, 16:00 Note: You have to be an acti
 ve member of Asset | Econometrics to join this weekend. Read here how you 
 can do that.
DTSTART:20250502T100000Z
DTEND:20250504T150000Z
END:VEVENT
BEGIN:VTIMEZONE
TZID:UTC
BEGIN:STANDARD
DTSTART:20250502T100000
TZNAME:UTC
TZOFFSETTO:+0000
TZOFFSETFROM:+0000
END:STANDARD
END:VTIMEZONE
END:VCALENDAR
