BEGIN:VCALENDAR
PRODID:-//eluceo/ical//2.0/EN
VERSION:2.0
CALSCALE:GREGORIAN
BEGIN:VEVENT
UID:event-752
DTSTAMP:20260423T135557Z
SUMMARY:Trading Inhouse Day
DESCRIPTION:On Tuesday\, May 13\, we will visit All Options to learn all ab
 out shaping the market. We’ll step into a high-speed trading floor\, mee
 t the professionals behind the screens\, and see how teamwork and sharp th
 inking drive real results. Join us on this trip to the office of All Opti
 ons and find out what working in the trading field is like! Registration d
 eadline: May 11\, 23:59 Registration All third-year+ econometrics students
  who are interested can register!   Do you want more information about th
 is event? Or are you a company interested in participating in this event? 
 Reach us at: ExternalAffairs@Asset-Econometrics.nl
DTSTART:20250513T073000Z
DTEND:20250513T110000Z
END:VEVENT
BEGIN:VTIMEZONE
TZID:UTC
BEGIN:STANDARD
DTSTART:20250513T073000
TZNAME:UTC
TZOFFSETTO:+0000
TZOFFSETFROM:+0000
END:STANDARD
END:VTIMEZONE
END:VCALENDAR
