BEGIN:VCALENDAR
PRODID:-//eluceo/ical//2.0/EN
VERSION:2.0
CALSCALE:GREGORIAN
BEGIN:VEVENT
UID:event-505
DTSTAMP:20260423T114335Z
SUMMARY:EfS activity
DESCRIPTION:Community center de Poorten is part of the organization Contour
 deTwern. Their community centers are a great place for a cup of coffee\, a
  nice chat\, a game of biljarts or bingo and/or help. You can go there to 
 meet other people\, but also find a wide range of social\, educational\, c
 ultural and assisting activities. We are going to help them prepare their 
 garden for the summer! Join us for a fun afternoon outside while learning 
 about the community center. To reward you for helping us we will end the a
 fternoon by enjoying some pizza's and drinks in the Spoorpark.
DTSTART:20240416T130000Z
DTEND:20240416T180000Z
END:VEVENT
BEGIN:VTIMEZONE
TZID:UTC
BEGIN:STANDARD
DTSTART:20240416T130000
TZNAME:UTC
TZOFFSETTO:+0000
TZOFFSETFROM:+0000
END:STANDARD
END:VTIMEZONE
END:VCALENDAR
