BEGIN:VCALENDAR
PRODID:-//eluceo/ical//2.0/EN
VERSION:2.0
CALSCALE:GREGORIAN
BEGIN:VEVENT
UID:event-204
DTSTAMP:20260421T082051Z
SUMMARY:Cycling Dinner
DESCRIPTION:The first event of the Drinks and Activity Committee has arrive
 d\, namely our famous Cycling Dinner! Join us for a culinary journey like 
 no other\, where each course awaits at a new location with other members. 
 Gather your fellow foodies\, hop on your bikes\, and embark on an unforget
 table gastronomic adventure!  Every course will have a different\, still 
 unknown\, theme and one course will be cooked by your duo. There will also
  be a price to win per course. You can choose your partner yourself or let
  the Drinks and Activity Committee choose them for you. The Committee will
  then determine with which different duos you and your partner will dine w
 ith during the three courses. Everyone is welcome to participate in this a
 mazing event\, even if you don’t live in Tilburg. After the Dinner\, we 
 will have a drink at the Nachtwacht to end the night together! We will als
 o announce the winners of the Dinner. You will also be able to declare par
 t of the costs you made for drinks and food for your course. There will be
  a theme and you will be divided into a scheme\, so you will know where to
  be at what time and what would be a beautiful dish to make that fits the 
 theme nicely. All members are welcome to join us! It is also possible to a
 ttend this event if you do not live in Tilburg\, you will then be placed i
 n a group with people who have a house available. Registrations will close
  October 23.
DTSTART:20231026T160000Z
DTEND:20231026T215959Z
LOCATION:Tilburg
END:VEVENT
BEGIN:VTIMEZONE
TZID:UTC
BEGIN:STANDARD
DTSTART:20231026T160000
TZNAME:UTC
TZOFFSETTO:+0000
TZOFFSETFROM:+0000
END:STANDARD
END:VTIMEZONE
END:VCALENDAR
