BEGIN:VCALENDAR
PRODID:-//eluceo/ical//2.0/EN
VERSION:2.0
CALSCALE:GREGORIAN
BEGIN:VEVENT
UID:event-1214
DTSTAMP:20260425T141519Z
SUMMARY:Freshmen Information Day: Lunch
DESCRIPTION:During the Freshmen Information Day\, you will learn a lot of r
 elevant practical information about the rest of your bachelor’s\, and ex
 change opportunities. Beforehand\, we will grab lunch at the rooms togeth
 er! Be sure to register to get a sandwich! If you want to join lunch\, mak
 e sure to register before May 5\, 16:30. Registration All econometrics stu
 dents who are interested can register!
DTSTART:20260506T104500Z
DTEND:20260506T123000Z
END:VEVENT
BEGIN:VTIMEZONE
TZID:UTC
BEGIN:STANDARD
DTSTART:20260506T104500
TZNAME:UTC
TZOFFSETTO:+0000
TZOFFSETFROM:+0000
END:STANDARD
END:VTIMEZONE
END:VCALENDAR
