BEGIN:VCALENDAR
PRODID:-//eluceo/ical//2.0/EN
VERSION:2.0
CALSCALE:GREGORIAN
BEGIN:VEVENT
UID:event-1202
DTSTAMP:20260423T135732Z
SUMMARY:International Business Tour 2026
DESCRIPTION:The International Business Tour 2026 will take place from Octob
 er 29 till November 12. During this trip\, we will visit several cities in
  Taiwan! We will combine visits to companies and universities with fun act
 ivities and daytrips to explore Taiwan! For more information\, you can se
 e the slides of our information session here\, or you can contact someone 
 from the committee or the board.  Participation fee: max. of €1050. T
 his includes a flight ticket\, hostels\, activities and 2 times dinner Re
 gistration All Econometrics students can register (note that a priority s
 ystem applies based on your study phase and previous participation of the 
 IBT). The registration deadline is May 3\, 23:59.   This event is organ
 ized by The International Business Tour 2026 Committee. Do you also want 
 to join a committee? Become active by sending a mail to Vice-Chairman@Asse
 t-Econometrics.nl
DTSTART:20261028T230000Z
DTEND:20261111T230000Z
END:VEVENT
BEGIN:VTIMEZONE
TZID:UTC
BEGIN:STANDARD
DTSTART:20261028T230000
TZNAME:UTC
TZOFFSETTO:+0000
TZOFFSETFROM:+0000
END:STANDARD
END:VTIMEZONE
END:VCALENDAR
