BEGIN:VCALENDAR
PRODID:-//eluceo/ical//2.0/EN
VERSION:2.0
CALSCALE:GREGORIAN
BEGIN:VEVENT
UID:event-1201
DTSTAMP:20260423T135732Z
SUMMARY:Monthly Afternoon: Sip & Paint
DESCRIPTION:It’s your favorite time of the month again: the Monthly After
 noon! This time we will organise a lovely sip and paint! Before we all are
  getting creative and going to pretend we’re wine experts\, we have a me
 al prepared for you. After that\, we’ll do a creative activity (still a 
 suprise what we will paint) while wine tasting with a quiz element. Hopef
 ully you’re as excited as we are! Participation fee: max €8 Registrat
 ion Please note that you need to be a member of Asset in order to register
  for this event. Are you not a member of Asset yet? Read more about all th
 e benefits of becoming a member here. The registration deadline is May 1
 7\, 23:59.   This event is organized by the Promotion committee. Do you a
 lso want to join a committee? Become active by sending a mail to Vice-Chai
 rman@Asset-Econometrics.nl
DTSTART:20260519T170000Z
DTEND:20260519T190000Z
END:VEVENT
BEGIN:VTIMEZONE
TZID:UTC
BEGIN:STANDARD
DTSTART:20260519T170000
TZNAME:UTC
TZOFFSETTO:+0000
TZOFFSETFROM:+0000
END:STANDARD
END:VTIMEZONE
END:VCALENDAR
