BEGIN:VCALENDAR
PRODID:-//eluceo/ical//2.0/EN
VERSION:2.0
CALSCALE:GREGORIAN
BEGIN:VEVENT
UID:event-1200
DTSTAMP:20260423T135557Z
SUMMARY:Information Session International Business Tour 2026
DESCRIPTION:The International Business Tour 2026 will take place from Octob
 er 29 until November 12. During this trip\, we will visit …! We will com
 bine visits to companies and universities with fun activities and daytrips
  to explore …! The trip will include a flight ticket\, hostels\, activit
 ies and 2 times dinner. Registration All econometrics students who are int
 erested can register! Please note that you need to be a member of Asset in
  order to register for this event. Are you not a member of Asset yet? Read
  more about all the benefits of becoming a member here.   This event is o
 rganized by the IBT 2026 committee. Do you also want to join a committee
 ? Become active by sending a mail to Vice-Chairman@Asset-Econometrics.nl
DTSTART:20260408T104500Z
DTEND:20260409T160000Z
END:VEVENT
BEGIN:VTIMEZONE
TZID:UTC
BEGIN:STANDARD
DTSTART:20260408T104500
TZNAME:UTC
TZOFFSETTO:+0000
TZOFFSETFROM:+0000
END:STANDARD
END:VTIMEZONE
END:VCALENDAR
