BEGIN:VCALENDAR
PRODID:-//eluceo/ical//2.0/EN
VERSION:2.0
CALSCALE:GREGORIAN
BEGIN:VEVENT
UID:event-1174
DTSTAMP:20260423T135902Z
SUMMARY:TOCK with Astrics
DESCRIPTION:This year\, Astrics will attend TOCK for the first time! We'r
 e looking forward to a stylish day in the sun\, filled with drinks\, live 
 jazz music\, great conversations\, and a relaxed\, festive vibe. The TOCK
  is an annual croquet tournament\, hosted by Dispuut Braque\, at FC Tilbur
 g\, which more than 1800 students attend. While enjoying the elite game of
  croquet\, you also have the opportunity to drown yourself in rosé wine\,
  and party with a lot of students! Participation fee: maximum of €27. N
 ote that this includes entrance and dinner\, but drinks not included. Dres
 scode: 'Kakker' style   Registration Please note that you need to be a m
 ember of Asset in order to register for this event. Are you not a member o
 f Asset yet? Read more about all the benefits of becoming a member here. 
 The registration deadline is March 27\, 23:59.
DTSTART:20260514T100000Z
DTEND:20260514T200000Z
END:VEVENT
BEGIN:VTIMEZONE
TZID:UTC
BEGIN:STANDARD
DTSTART:20260514T100000
TZNAME:UTC
TZOFFSETTO:+0000
TZOFFSETFROM:+0000
END:STANDARD
END:VTIMEZONE
END:VCALENDAR
