BEGIN:VCALENDAR
PRODID:-//eluceo/ical//2.0/EN
VERSION:2.0
CALSCALE:GREGORIAN
BEGIN:VEVENT
UID:event-1171
DTSTAMP:20260420T024529Z
SUMMARY:Active Members Weekend
DESCRIPTION:Save the dates and draw a big cross in your agenda for May 1-3\
 , because our Active Members Weekend will take place\, make sure to be the
 re!  Registrations open on March 17\, 20:00 Note: You have to be an acti
 ve member of Asset | Econometrics to join this weekend. Read here how you 
 can do that.
DTSTART:20260501T100000Z
DTEND:20260503T140000Z
END:VEVENT
BEGIN:VTIMEZONE
TZID:UTC
BEGIN:STANDARD
DTSTART:20260501T100000
TZNAME:UTC
TZOFFSETTO:+0000
TZOFFSETFROM:+0000
END:STANDARD
END:VTIMEZONE
END:VCALENDAR
