BEGIN:VCALENDAR
PRODID:-//eluceo/ical//2.0/EN
VERSION:2.0
CALSCALE:GREGORIAN
BEGIN:VEVENT
UID:event-1170
DTSTAMP:20260423T135932Z
SUMMARY:Master Experience Day
DESCRIPTION:Still not sure which of the three econometrics Master programs 
 at Tilburg University you want to follow after your Bachelor's? The Master
  Experience Day on April 7 is your day to figure it out! At each session\,
  learn from the Academic Director what the Master program consists of\, ho
 w it can be applied in careers\, and what courses are recommended. After a
  short break\, learn about the experiences of an alumnus.  The day progra
 m is as follows: BAOR 10:45 - 11:30 Cristian Dobre 11:30 - 11: 45 Coffee b
 reak/questions 11:45 - 12:30 Alumni 12:30 - 12:45 Lunch QFAS 12:45 - 13:30
  Nikolaus Schweizer 13:30 - 13:45 Coffee break/questions 13:45 - 14:30 Alu
 mni 14:30 - 14:45 Coffee break EME 14:45 - 15:30 Martin Salm 15:30 - 15:45
  Coffee break/questions 15:45 - 16:30 Alumni   Registration All econometr
 ics students can register!
DTSTART:20260407T084500Z
DTEND:20260407T143000Z
END:VEVENT
BEGIN:VTIMEZONE
TZID:UTC
BEGIN:STANDARD
DTSTART:20260407T084500
TZNAME:UTC
TZOFFSETTO:+0000
TZOFFSETFROM:+0000
END:STANDARD
END:VTIMEZONE
END:VCALENDAR
