BEGIN:VCALENDAR
PRODID:-//eluceo/ical//2.0/EN
VERSION:2.0
CALSCALE:GREGORIAN
BEGIN:VEVENT
UID:event-1167
DTSTAMP:20260423T135856Z
SUMMARY:Hangover Lunch
DESCRIPTION:Eager to hear all the gossip from the previous night’s COdE? 
 Then join our hangover lunch and make sure you are up to date with everyth
 ing that happened. And all this while enjoying two delicious snacks on a '
 bolletje' from our beloved snackbar.    Registration Please note that y
 ou need to be a member of Asset in order to register for this event. Are y
 ou not a member of Asset yet? Read more about all the benefits of becoming
  a member here. 
DTSTART:20260313T120000Z
DTEND:20260313T140000Z
END:VEVENT
BEGIN:VTIMEZONE
TZID:UTC
BEGIN:STANDARD
DTSTART:20260313T120000
TZNAME:UTC
TZOFFSETTO:+0000
TZOFFSETFROM:+0000
END:STANDARD
END:VTIMEZONE
END:VCALENDAR
