BEGIN:VCALENDAR
PRODID:-//eluceo/ical//2.0/EN
VERSION:2.0
CALSCALE:GREGORIAN
BEGIN:VEVENT
UID:event-1150
DTSTAMP:20260423T135933Z
SUMMARY:EfS Activity: Gaming and Cooking at Philadelphia 
DESCRIPTION:During this event\, we will play Mario Kart and bake/decorate c
 ookies together at Philadelphia. After this\, we will have a joint dinner 
 on location. Philadelphia is a residential facility for people with intell
 ectual disabilities. On this day\, we will have a fun afternoon with resid
 ents between the ages of 20 and 35. Each family lives in its own apartment
 \, so everyone lives independently. They will help create a plan for these
  people if they want to learn more skills. Note that when you participate 
 in this event\, you will get early access to buying a TUC ticket. Particip
 ation fee: At most €3\,-   Registration Please note that you need to be
  a member of Asset in order to register for this event. Are you not a memb
 er of Asset yet? Read more about all the benefits of becoming a member her
 e. The registration deadline is March 3\, 23:59.   This event is organi
 zed by the Econometricians for Society committee. Do you also want to join
  a committee? Become active by sending a mail to Vice-Chairman@Asset-Econo
 metrics.nl
DTSTART:20260304T134500Z
DTEND:20260304T183000Z
END:VEVENT
BEGIN:VTIMEZONE
TZID:UTC
BEGIN:STANDARD
DTSTART:20260304T134500
TZNAME:UTC
TZOFFSETTO:+0000
TZOFFSETFROM:+0000
END:STANDARD
END:VTIMEZONE
END:VCALENDAR
