BEGIN:VCALENDAR
PRODID:-//eluceo/ical//2.0/EN
VERSION:2.0
CALSCALE:GREGORIAN
BEGIN:VEVENT
UID:event-1145
DTSTAMP:20260423T135804Z
SUMMARY:OG Date Dinner
DESCRIPTION:OG: Date Dinner – After-Work Elegance After preparing you for
  the life of a YUP\, the Olden Goldies Committee now invites you to take t
 he next step: meeting the person to share that YUP life with\, or enjoying
  a memorable evening with the person you have already chosen to embark on 
 that journey together. Join us for the OG Date Dinner\, an elegant evening
  after your long working day\, centered around good food and great company
 . Expect a relaxed yet refined atmosphere\, a carefully curated three-cour
 se dinner\, and plenty of wine to keep the conversation flowing. The dress
  code for the evening is After-Work Elegance: polished\, chic\, and entire
 ly your own style. Registration Registration opens on Wednesday\, February
  11 at 20:00. Please note that this event is first come\, first served\, s
 o be ready when registration opens. You can choose to relax and let us do
  the work: we will fix a date for you. Of course\, it is also possible to 
 bring your own date*. If you have a relationship with a fellow Astrics me
 mber only one of you has to sign up. * Please note that if you choose to b
 ring a friend-date\, you will be placed at the bottom of the waiting list\
 , as this is a date dinner intended for going on a date. All fourth-year+ 
 and (pre)master econometrics students who are interested can register! Pl
 ease note that you need to be a member of Asset in order to register for t
 his event. Are you not a member of Asset yet? Read more about all the bene
 fits of becoming a member here.  Maximum participation fee:  Bringing yo
 ur own date: €120 (€60 per person) Blind date: €90 (your date will p
 ay the remaining €30) Note: the participation fee will be deducted from 
 your account after the event has taken place. Location Rosalie!   This ev
 ent is organized by the Olden Goldies committee. Do you also want to join 
 a committee? Become active by sending a mail to Vice-Chairman@Asset-Econom
 etrics.nl
DTSTART:20260521T163000Z
DTEND:20260521T200000Z
END:VEVENT
BEGIN:VTIMEZONE
TZID:UTC
BEGIN:STANDARD
DTSTART:20260521T163000
TZNAME:UTC
TZOFFSETTO:+0000
TZOFFSETFROM:+0000
END:STANDARD
END:VTIMEZONE
END:VCALENDAR
