BEGIN:VCALENDAR
PRODID:-//eluceo/ical//2.0/EN
VERSION:2.0
CALSCALE:GREGORIAN
BEGIN:VEVENT
UID:event-1143
DTSTAMP:20260423T135803Z
SUMMARY:Apres Ski Drink
DESCRIPTION:Join us for the legendary annually Après Ski Drink! You can en
 joy unlimited beers\, and you can get the brand new astrics James Dronk be
 er mug for just €5! Dresscode: Apres Ski Clothing   Registration All 
 econometrics students who are interested can register!   This event is or
 ganized by the D&amp\;A committee. Do you also want to join a committee? B
 ecome active by sending a mail to Vice-Chairman@Asset-Econometrics.nl
DTSTART:20260305T200000Z
DTEND:20260305T225959Z
END:VEVENT
BEGIN:VTIMEZONE
TZID:UTC
BEGIN:STANDARD
DTSTART:20260305T200000
TZNAME:UTC
TZOFFSETTO:+0000
TZOFFSETFROM:+0000
END:STANDARD
END:VTIMEZONE
END:VCALENDAR
