BEGIN:VCALENDAR
PRODID:-//eluceo/ical//2.0/EN
VERSION:2.0
CALSCALE:GREGORIAN
BEGIN:VEVENT
UID:event-1142
DTSTAMP:20260423T135902Z
SUMMARY:Board Information Session
DESCRIPTION:Are you interested in a board year\, or just curious what it is
  that boardies do in a day? Join us at Café Bolle for some drinks and inf
 ormation about a board year! *Note that nothing is obliged after attending
  this information session. Attending this session is completely open-ended
 .   Registration All econometrics students who are interested can registe
 r!
DTSTART:20260310T180000Z
DTEND:20260310T200000Z
END:VEVENT
BEGIN:VTIMEZONE
TZID:UTC
BEGIN:STANDARD
DTSTART:20260310T180000
TZNAME:UTC
TZOFFSETTO:+0000
TZOFFSETFROM:+0000
END:STANDARD
END:VTIMEZONE
END:VCALENDAR
