BEGIN:VCALENDAR
PRODID:-//eluceo/ical//2.0/EN
VERSION:2.0
CALSCALE:GREGORIAN
BEGIN:VEVENT
UID:event-1141
DTSTAMP:20260422T104237Z
SUMMARY:Traders Tour
DESCRIPTION:On Wednesday\, May 20\, we will visit two companies to learn al
 l about how they operate in the market. We will start our day at the offic
 e of Da Vinci\, a firm focused on trading. Then\, we will travel to Eindho
 ven where we will pay a visit to Interfood\, a company active in the agric
 ultural trading market. Join us on this trip to Amsterdam and Eindhoven to
  find out what working in the traders field is like! Dresscode: Business 
 casual Registration All third-year or higher bachelor's and master's econo
 metrics students who are interested can register! The registration deadlin
 e is May 17\, 23:59.
DTSTART:20260520T070000Z
DTEND:20260520T160000Z
END:VEVENT
BEGIN:VTIMEZONE
TZID:UTC
BEGIN:STANDARD
DTSTART:20260520T070000
TZNAME:UTC
TZOFFSETTO:+0000
TZOFFSETFROM:+0000
END:STANDARD
END:VTIMEZONE
END:VCALENDAR
